BEGIN:VCALENDAR
VERSION:2.0
PRODID:-//Squarespace Inc/Squarespace 6//v6//EN
BEGIN:VEVENT
UID:5fb369aa68ce5851dfa6b38b@squarespace.com
DTSTAMP:20201117T061754Z
DTSTART:20201116T133000Z
DTEND:20210228T142959Z
SUMMARY:Weekly Specials
GEO:-37.809667;144.993547
LOCATION:The Aviary Melbourne\, 271 Victoria Street\, Abbotsford\, VIC\, 30
 67\, Australia
END:VEVENT
END:VCALENDAR
