BEGIN:VCALENDAR
VERSION:2.0
PRODID:-//Squarespace Inc/Squarespace 6//v6//EN
BEGIN:VEVENT
UID:5fffa089e85b595552a1a2af@squarespace.com
DTSTAMP:20210114T014103Z
DTSTART:20210202T083000Z
DTEND:20210202T113000Z
SUMMARY:Trivia Tuesday Hosted by Tina del Twist
GEO:-37.809667;144.993547
LOCATION:The Aviary Melbourne\, 271 Victoria Street\, Abbotsford\, VIC\, 30
 67\, Australia
END:VEVENT
END:VCALENDAR
