BEGIN:VCALENDAR
VERSION:2.0
PRODID:-//Squarespace Inc/Squarespace 6//v6//EN
BEGIN:VEVENT
UID:5ff7ebc1fc6bad1cdf1e0376@squarespace.com
DTSTAMP:20210108T053004Z
DTSTART:20210123T010000Z
DTEND:20210123T130000Z
SUMMARY:Triple J Hottest 100 Countdown
GEO:-37.809667;144.993547
LOCATION:The Aviary Melbourne\, 271 Victoria Street\, Abbotsford\, VIC\, 30
 67\, Australia
END:VEVENT
END:VCALENDAR
