BEGIN:VCALENDAR
VERSION:2.0
PRODID:-//Squarespace Inc/Squarespace 6//v6//EN
BEGIN:VEVENT
UID:5ff7f2e230341e544e1e3864@squarespace.com
DTSTAMP:20210108T055315Z
DTSTART:20210225T083000Z
DTEND:20210225T093000Z
SUMMARY:The Simpsons Trivia Hosted by Trivia Supply Co
GEO:-37.809667;144.993547
LOCATION:The Aviary Melbourne\, 271 Victoria Street\, Abbotsford\, VIC\, 30
 67\, Australia
END:VEVENT
END:VCALENDAR
