BEGIN:VCALENDAR
VERSION:2.0
PRODID:-//Squarespace Inc/Squarespace 6//v6//EN
BEGIN:VEVENT
UID:5ff7f0d6488eb904d5061745@squarespace.com
DTSTAMP:20210108T055122Z
DTSTART:20210207T220000Z
DTEND:20210208T110000Z
SUMMARY:Superbowl LV
GEO:-37.809667;144.993547
LOCATION:The Aviary Melbourne\, 271 Victoria Street\, Abbotsford\, VIC\, 30
 67\, Australia
END:VEVENT
END:VCALENDAR
