BEGIN:VCALENDAR
VERSION:2.0
PRODID:-//Squarespace Inc/Squarespace 6//v6//EN
BEGIN:VEVENT
UID:5eb4bd4c2183e54cb729f2a2@squarespace.com
DTSTAMP:20200510T222749Z
DTSTART:20200506T070000Z
DTEND:20200805T110000Z
SUMMARY:Parma Wednesdays
END:VEVENT
END:VCALENDAR
