BEGIN:VCALENDAR
VERSION:2.0
PRODID:-//Squarespace Inc/Squarespace 6//v6//EN
BEGIN:VEVENT
UID:5f7cf0cfa2bdf669d75bd555@squarespace.com
DTSTAMP:20201006T224203Z
DTSTART:20201016T230000Z
DTEND:20201017T100000Z
SUMMARY:Oktoberfest with chef's German inspired menu
END:VEVENT
END:VCALENDAR
