BEGIN:VCALENDAR
VERSION:2.0
PRODID:-//Squarespace Inc/Squarespace 6//v6//EN
BEGIN:VEVENT
UID:5ff7ee102e7b424c2aa1d410@squarespace.com
DTSTAMP:20210108T063308Z
DTSTART:20210128T083000Z
DTEND:20210128T130000Z
SUMMARY:Harry Potter Trivia Hosted by Trivia Supply Co
GEO:-37.809667;144.993547
LOCATION:The Aviary Melbourne\, 271 Victoria Street\, Abbotsford\, VIC\, 30
 67\, Australia
END:VEVENT
END:VCALENDAR
