BEGIN:VCALENDAR
VERSION:2.0
PRODID:-//Squarespace Inc/Squarespace 6//v6//EN
BEGIN:VEVENT
UID:5f8fb2b1e7e5ee2c3fdb5040@squarespace.com
DTSTAMP:20201021T043457Z
DTSTART:20201024T010000Z
DTEND:20201024T120000Z
SUMMARY:Grand Final Day | Delivery |  Food &amp\; Drink Specials 
END:VEVENT
END:VCALENDAR
