BEGIN:VCALENDAR
VERSION:2.0
PRODID:-//Squarespace Inc/Squarespace 6//v6//EN
BEGIN:VEVENT
UID:5eb4be75613f3371782a5b22@squarespace.com
DTSTAMP:20200510T222822Z
DTSTART:20200508T070000Z
DTEND:20200807T110000Z
SUMMARY:Fish &amp\; Chip Fridays
END:VEVENT
END:VCALENDAR
