BEGIN:VCALENDAR
VERSION:2.0
PRODID:-//Squarespace Inc/Squarespace 6//v6//EN
BEGIN:VEVENT
UID:5f4593d929578a6bb179e6df@squarespace.com
DTSTAMP:20200826T034834Z
DTSTART:20200825T230000Z
DTEND:20200902T090000Z
SUMMARY:Father's Day Set Menus - Available for Pick-up or Delivery
END:VEVENT
END:VCALENDAR
